BEGIN:VCALENDAR
VERSION:2.0
PRODID:icalendar-ruby
CALSCALE:GREGORIAN
METHOD:PUBLISH
BEGIN:VEVENT
DTSTAMP:20260423T012657Z
UID:11-446407@basswoodchurch.com
DTSTART:20261030T113000Z
DTEND:20261030T123000Z
CLASS:PUBLIC
CREATED:20260422T190322
DESCRIPTION:
LAST-MODIFIED:20260422T190322
LOCATION:Basswood Church
SUMMARY:Men's Theology Breakfast
URL;VALUE=URI:https://www.basswoodchurch.com/events/mens-theology-breakfast
 /2026-10-30
END:VEVENT
END:VCALENDAR
