BEGIN:VCALENDAR
VERSION:2.0
PRODID:icalendar-ruby
CALSCALE:GREGORIAN
METHOD:PUBLISH
BEGIN:VEVENT
DTSTAMP:20260422T220833Z
UID:11-446085@basswoodchurch.com
DTSTART:20261016T113000Z
DTEND:20261016T123000Z
CLASS:PUBLIC
CREATED:20260422T161016
DESCRIPTION:
LAST-MODIFIED:20260422T161016
LOCATION:Basswood Church
SUMMARY:Men's Theology Breakfast
URL;VALUE=URI:https://www.basswoodchurch.com/events/mens-theology-breakfast
 /2026-10-16
END:VEVENT
END:VCALENDAR
