BEGIN:VCALENDAR
VERSION:2.0
PRODID:icalendar-ruby
CALSCALE:GREGORIAN
METHOD:PUBLISH
BEGIN:VEVENT
DTSTAMP:20260422T190853Z
UID:11-445763@basswoodchurch.com
DTSTART:20261002T113000Z
DTEND:20261002T123000Z
CLASS:PUBLIC
CREATED:20260422T131523
DESCRIPTION:
LAST-MODIFIED:20260422T131523
LOCATION:Basswood Church
SUMMARY:Men's Theology Breakfast
URL;VALUE=URI:https://www.basswoodchurch.com/events/mens-theology-breakfast
 /2026-10-02
END:VEVENT
END:VCALENDAR
