BEGIN:VCALENDAR
VERSION:2.0
PRODID:icalendar-ruby
CALSCALE:GREGORIAN
METHOD:PUBLISH
BEGIN:VEVENT
DTSTAMP:20260422T152119Z
UID:11-445441@basswoodchurch.com
DTSTART:20260918T113000Z
DTEND:20260918T123000Z
CLASS:PUBLIC
CREATED:20260422T101953
DESCRIPTION:
LAST-MODIFIED:20260422T101953
LOCATION:Basswood Church
SUMMARY:Men's Theology Breakfast
URL;VALUE=URI:https://www.basswoodchurch.com/events/mens-theology-breakfast
 /2026-09-18
END:VEVENT
END:VCALENDAR
