BEGIN:VCALENDAR
VERSION:2.0
PRODID:icalendar-ruby
CALSCALE:GREGORIAN
METHOD:PUBLISH
BEGIN:VEVENT
DTSTAMP:20260422T135324Z
UID:11-445120@basswoodchurch.com
DTSTART:20260911T113000Z
DTEND:20260911T123000Z
CLASS:PUBLIC
CREATED:20260422T072504
DESCRIPTION:
LAST-MODIFIED:20260422T072504
LOCATION:Basswood Church
SUMMARY:Men's Theology Breakfast
URL;VALUE=URI:https://www.basswoodchurch.com/events/mens-theology-breakfast
 /2026-09-11
END:VEVENT
END:VCALENDAR
