BEGIN:VCALENDAR
VERSION:2.0
PRODID:icalendar-ruby
CALSCALE:GREGORIAN
METHOD:PUBLISH
BEGIN:VEVENT
DTSTAMP:20260422T105102Z
UID:11-444798@basswoodchurch.com
DTSTART:20260828T113000Z
DTEND:20260828T123000Z
CLASS:PUBLIC
CREATED:20260421T202344
DESCRIPTION:
LAST-MODIFIED:20260421T202344
LOCATION:Basswood Church
SUMMARY:Men's Theology Breakfast
URL;VALUE=URI:https://www.basswoodchurch.com/events/mens-theology-breakfast
 /2026-08-28
END:VEVENT
END:VCALENDAR
